BEGIN:VCALENDAR
VERSION:2.0
PRODID:-//wp-events-plugin.com//7.2.3.1//EN
BEGIN:VEVENT
UID:282@drogasgenero.info
DTSTART;TZID=Europe/Madrid:20260528T093000
DTEND;TZID=Europe/Madrid:20260528T140000
DTSTAMP:20260420T101136Z
URL:https://www.drogasgenero.info/events/xii-encuentro-de-profesionales-de
 -genero-drogas-y-adicciones-violencia-sexual-y-usos-de-drogas-valladolid/
SUMMARY:XII Encuentro de profesionales de género\, drogas y adicciones: "V
 iolencia sexual y usos de drogas" // Valladolid
DESCRIPTION:Desde el Proyecto Malva de Fundación Salud y Comunidad nos com
 place invitaros al XII Encuentro estatal de profesionales de los ámbitos 
 de género\, drogas y adicciones\, este año bajo el título "Violencia se
 xual y usos de drogas”.\n\nPuedes descargar ESTE PDF con toda la informa
 ción. Igualmente\, te facilitamos aquí los datos del Encuentro: \n\n 	Lu
 gar: PRESENCIAL en Valladolid - Centro Cívico Bailarín Vicente Escudero 
 (Tr.ª Verbena\, 1\, Valladolid)\n 	Fecha: 28 de mayo de 2026\n 	Horario: 
 9.30h a 14.00h\n 	Inscripción: El Encuentro es gratuito pero es necesario
  inscribirse en ESTE FORMULARIO (aforo limitado. LAS INSCRIPCIONES SON NEC
 ESARIAS ÚNICAMENTE SI SE VA A ASISTIR PRESENCIALMENTE)\n 	Grabación: La 
 Jornada será grabada y posteriormente subida a nuestro canal de YouTube D
 rogas&amp\;Género\n 	Certificación: Se entregará certificado de asisten
 cia (vía mail posteriormente al Encuentro)\n 	Organiza: Proyecto Malva (F
 undación Salud y Comunidad)\n 	Financia: Delegación del Gobierno para el
  Plan Nacional Sobre Drogas (Ministerio de Sanidad)\n 	Colabora: Ayuntamie
 nto de Valladolid.\n 	Tienes toda la info en este enlace\n
END:VEVENT
BEGIN:VTIMEZONE
TZID:Europe/Madrid
X-LIC-LOCATION:Europe/Madrid
BEGIN:DAYLIGHT
DTSTART:20260329T030000
TZOFFSETFROM:+0100
TZOFFSETTO:+0200
TZNAME:CEST
END:DAYLIGHT
END:VTIMEZONE
END:VCALENDAR