BEGIN:VCALENDAR
VERSION:2.0
PRODID:-//wp-events-plugin.com//7.2.3.1//EN
BEGIN:VEVENT
UID:244@drogasgenero.info
DTSTART;TZID=Europe/Madrid:20241127T180000
DTEND;TZID=Europe/Madrid:20241127T193000
DTSTAMP:20241118T100729Z
URL:https://www.drogasgenero.info/events/xerrada-violencies-sexuals-en-con
 textos-doci-nocturn-i-consum-de-drogues-tordera/
SUMMARY:Xerrada "Violències sexuals en contextos d'oci nocturn i consum de
  drogues" // Tordera
DESCRIPTION:El dia 27 de novembre a les 18h al Casal de Joves de Tordera la
  nostra companya María Giaever farà la xerrada "Violències sexuals en c
 ontextos d'oci nocturn i consum de drogues" en el marc de les activitats d
 el municipi per al 25N. Tens tota la informació de les accions programade
 s i organitzades per l'Ajuntament de Tordera AQUÍ.\n\n
ATTACH;FMTTYPE=image/jpeg:https://www.drogasgenero.info/wp-content/uploads
 /25n_2024_Mesa_de_trabajo_1_copia_3.png
LOCATION:Casal de joves de Tordera\, Carrer Can Pujades\, 9\, Tordera\, Bar
 celona\,  08490\, España
X-APPLE-STRUCTURED-LOCATION;VALUE=URI;X-ADDRESS=Carrer Can Pujades\, 9\, To
 rdera\, Barcelona\,  08490\, España;X-APPLE-RADIUS=100;X-TITLE=Casal de j
 oves de Tordera:geo:0,0
END:VEVENT
BEGIN:VTIMEZONE
TZID:Europe/Madrid
X-LIC-LOCATION:Europe/Madrid
BEGIN:STANDARD
DTSTART:20241027T020000
TZOFFSETFROM:+0200
TZOFFSETTO:+0100
TZNAME:CET
END:STANDARD
END:VTIMEZONE
END:VCALENDAR