BEGIN:VCALENDAR
VERSION:2.0
PRODID:-//wp-events-plugin.com//7.2.3.1//EN
BEGIN:VEVENT
UID:263@drogasgenero.info
DTSTART;TZID=Europe/Madrid:20250605T120000
DTEND;TZID=Europe/Madrid:20250605T140000
DTSTAMP:20250603T082156Z
URL:https://www.drogasgenero.info/events/xerrada-prevencio-i-actuacio-dava
 nt-les-violencies-sexuals-en-loci-nocturn-igualada/
SUMMARY:Xerrada "Prevenció i actuació davant les violències sexuals en l
 'oci nocturn" // Igualada
DESCRIPTION:Participem en el cicle de tallers i xerrades al voltant del Dia
  Internacional d'Acció per la Salut de les Dones amb una xerrada sobre le
 s violències sexuals en l’oci nocturn\, a càrrec de Maria Giaever\, de
  l’Observatori Noctàmbul@s (FSC). També es presentarà el document “
 Instruccions de prevenció i actuació davant les violències sexuals en l
 ’oci nocturn”\, elaborat per la Taula NitsQ i l’Escola Gaspar Camps 
 d’Igualada.\n\nHora: 12 h\nLloc: Auditori del Centre Cívic Nord (C/ San
 t Martí de Tous\, 8)\nHo organitzen: Departament de Salut Pública de l
 ’Ajuntament d’Igualada i Taula NitsQ Igualada.\n\n 	Agenda Salut Dones
  2025 completa aquí\n 	Més informació aquí\n
ATTACH;FMTTYPE=image/jpeg:https://www.drogasgenero.info/wp-content/uploads
 /POSTS-salut-dones-28m-17.jpg
LOCATION:Auditori del centre civic nord\, C/ Sant Martí de Tous\, 8\, Igua
 lada\, España
X-APPLE-STRUCTURED-LOCATION;VALUE=URI;X-ADDRESS=C/ Sant Martí de Tous\, 8\
 , Igualada\, España;X-APPLE-RADIUS=100;X-TITLE=Auditori del centre civic 
 nord:geo:0,0
END:VEVENT
BEGIN:VTIMEZONE
TZID:Europe/Madrid
X-LIC-LOCATION:Europe/Madrid
BEGIN:DAYLIGHT
DTSTART:20250330T030000
TZOFFSETFROM:+0100
TZOFFSETTO:+0200
TZNAME:CEST
END:DAYLIGHT
END:VTIMEZONE
END:VCALENDAR