BEGIN:VCALENDAR
VERSION:2.0
PRODID:-//wp-events-plugin.com//7.2.3.1//EN
BEGIN:VEVENT
UID:229@drogasgenero.info
DTSTART;TZID=Europe/Madrid:20240510T093000
DTEND;TZID=Europe/Madrid:20240510T140000
DTSTAMP:20240410T101242Z
URL:https://www.drogasgenero.info/events/x-encuentro-de-profesionales-de-g
 enero-drogas-y-adicciones-prescripcion-y-uso-de-psicofarmacos-desde-la-per
 spectiva-de-genero-madrid/
SUMMARY:X Encuentro de profesionales de género\, drogas y adicciones: "Pre
 scripción y uso de psicofármacos desde la perspectiva de género" // Mad
 rid
DESCRIPTION:Desde el Proyecto Malva de Fundación Salud y Comunidad nos com
 place invitaros al X Encuentro estatal de profesionales de los ámbitos de
  género\, drogas y adicciones\, este año bajo el título "Prescripción 
 y uso de psicofármacos desde la perspectiva de género”.\n\nPuedes desc
 argar ESTE PDF con toda la información. Igualmente\, te facilitamos aquí
  los datos del Encuentro:\n\n 	Lugar: PRESENCIAL en Madrid - Espacio Mujer
  Madrid (EMMA) - C/ Martos\, 185\n 	Fecha: 10 de mayo de 2024\n 	Horario:
  9.30h a 14.00h\n 	Inscripción: El Encuentro es gratutito pero es necesar
 io inscribirse en ESTE FORMULARIO (aforo limitado. LAS INSCRIPCIONES SON N
 ECESARIAS ÚNICAMENTE SI SE VA A ASISTIR PRESENCIALMENTE)\n 	Certificació
 n: Se entregará certificado de asistencia (vía mail posteriormente al En
 cuentro)\n 	Grabación: La jornada será grabada (NO HABRÁ STREAMING) y l
 os vídeos estarán disponibles posteriormente EN MODO PÚBLICO en el Cana
 l Drogas&amp\;Género FSC\n 	Organiza: Proyecto Malva (Fundación Salud y 
 Comunidad)\n 	Financia: Delegación del Gobierno para el Plan Nacional Sob
 re Drogas (Ministerio de Sanidad)\n\nPROGRAMA\n\n9.00h – 9.30h: Recepci
 ón de asistentes\n\n9.30h – 10.00h: Presentación y bienvenida:\n\n 	Ma
 yte Galán García. Directora del Espacio Mujer Madrid\n 	Marta Álvarez F
 reijo. Directora del Área de Adicciones\, Género y Familia. Fundación S
 alud y Comunidad\n 	Ana Burgos García. Coordinadora del Proyecto Malva. F
 undación Salud y Comunidad\n 	Beatriz Mesías Pérez. Subdirectora Genera
 l de Adicciones. Madrid Salud\n\n10.00h – 11.20h Conferencia inaugural: 
 ¿Por qué los psicofármacos? ¿por qué ahora? y otros porqués epidemio
 lógicos. Pilar Carrasco Garrido [Catedrática de Medicina Preventiva y Sa
 lud Pública. Universidad Rey Juan Carlos]\n\n 	\n\n 	Modera: Patricia Mar
 tínez Redondo. Educadora social y antropóloga experta en género y drogo
 dependencias\n\n\n\n11.20 – 11.30h Presentación vídeo “Abordemos los
  psicofármacos con gafas violeta”. Equipo de coordinación: Ana Burgos 
 García\, Pilar Carrasco Garrido y Laura Fernández Aguirre [The Spells Fa
 ctory]\n\n11.30h – 12.00h Descanso\n\n\n\n12.00h – 14.00h Mesa redonda
 : Buenas prácticas en la prevención y atención relacionadas con el uso 
 de psicofármacos desde la perspectiva de género:\n\n 	Carmen Gallardo Pi
 no [FUNDADEPS]: Capacitación a profesionales en la integración de la per
 spectiva de género en la prevención\, detección y atención a mujeres c
 onsumidoras\n 	Davinia Ramírez Santana [Fundación Canaria Yrichen]: “N
 o cargues tú sola”: prevención del abuso de benzodiacepinas en mujeres
 \n 	Gemma Maudes Rosselló [Fundación Salud y Comunidad]: Aterricemos en 
 la intervención directa: abordaje del abuso de psicofármacos en los serv
 icios del Área de Adicciones\, Género y Familia\n\n 	Modera: Otger Amatl
 ler Gutiérrez. Coordinador del Departamento de Prevención de FSC\n\n\n\n
 *Cartel diseñado por Inés Jiménez de La Pera Comunicació
ATTACH;FMTTYPE=image/jpeg:https://www.drogasgenero.info/wp-content/uploads
 /jornada-malva-2024-ig-1.jpg
LOCATION:EMMA\, C/ Martos\, 185\, Madrid\, Madrid\, 28053\, España
GEO:40.375416;-3.661659
X-APPLE-STRUCTURED-LOCATION;VALUE=URI;X-ADDRESS=C/ Martos\, 185\, Madrid\, 
 Madrid\, 28053\, España;X-APPLE-RADIUS=100;X-TITLE=EMMA:geo:40.375416,-3.
 661659
END:VEVENT
BEGIN:VTIMEZONE
TZID:Europe/Madrid
X-LIC-LOCATION:Europe/Madrid
BEGIN:DAYLIGHT
DTSTART:20240331T030000
TZOFFSETFROM:+0100
TZOFFSETTO:+0200
TZNAME:CEST
END:DAYLIGHT
END:VTIMEZONE
END:VCALENDAR