BEGIN:VCALENDAR
VERSION:2.0
PRODID:-//wp-events-plugin.com//7.2.3.1//EN
BEGIN:VEVENT
UID:75@drogasgenero.info
DTSTART:20180704T090000Z
DTEND:20180704T180000Z
DTSTAMP:20180702T084234Z
URL:https://www.drogasgenero.info/events/violencias-silenciadas-una-mirada
 -de-genero-para-la-intervencion/
SUMMARY:Violencia(s) silenciada(s): una mirada de género para la intervenc
 ión
DESCRIPTION:Participamos en esta jornada:\n\n"Desde el Programa ADELANTE\,
  impulsado por la Fundación Cepaim\, tenemos el placer de invitarle en M
 adrid al curso “Violencia(s) silenciada(s): una mirada de género para
  la intervención”. Esta formación está dirigida a profesionales de la
  intervención social\, estudiantes y público interesado en general  as
 í como personal técnico y otras /os agentes sociales clave.\n\nEntre los
   objetivos de dicho curso se encuentran:\n\n 	Identificar las violencias
  silenciadas y las estructuras que las subyacen.\n 	Favorecer el empoderam
 iento individual y colectivo de las mujeres.\n 	Adquirir estrategias  de 
 detección para  el acompañamiento desde diferentes ámbitos de interven
 ción.\n\nSe trata de una formación presencial de 7.5 horas de duración
  a desarrollar el día 4 de julio de 9 a 14.30 y de 16 a 18 horas en la 
 Biblioteca Pública Municipal Ana María Matute\, sita en la calle Comuner
 os de Castilla 30 (Metro Marqués de Vadillo).\n\nPara este curso contamos
  con la participación de diferentes profesionales vinculadas a la interve
 nción en temas relacionados con las violencias hacia las mujeres tanto a 
 nivel laboral como personal\, y comprometidas con un ideario feminista.\n\
 nEsta acción se enmarca dentro de la línea de Formación a profesionales
  del Programa Adelante\, impulsado por la Fundación Cepaim y financiad
 o por el Fondo Social Europeo\, El FSE invierte en tu futuro\, con la cofi
 nanciación del Ministerio de Sanidad\, Servicios Sociales e Igualdad\, v
 ía aportaciones IRPF.\n\nEl Adelante combina Medidas Específicas dirigid
 as a mujeres en situación de vulnerabilidad para la mejora de su inserci
 ón sociolaboral con medidas de transversabilidad para la Igualdad de Gén
 ero.\n\nHay aforo limitado a 45 personas y es un curso gratuito para el al
 umnado ya que dispone de financiación pública.\n\nSe admiten INSCRIPCIO
 NES hasta el 27 de junio de 2018".\n\nAQUÍ PUEDES DESCARGAR EL PROGRAMA 
 COMPLETO
ATTACH;FMTTYPE=image/jpeg:https://www.drogasgenero.info/wp-content/uploads
 /CEPAIM.png
LOCATION:Biblioteca Pública Municipal Ana María Matute // Madrid\, C/ Com
 uneros de Castilla\, 30\, Madrid\, España
GEO:40.3977772;-3.720266000000038
X-APPLE-STRUCTURED-LOCATION;VALUE=URI;X-ADDRESS=C/ Comuneros de Castilla\, 
 30\, Madrid\, España;X-APPLE-RADIUS=100;X-TITLE=Biblioteca Pública Munic
 ipal Ana María Matute // Madrid:geo:40.3977772,-3.720266000000038
END:VEVENT
END:VCALENDAR