BEGIN:VCALENDAR
VERSION:2.0
PRODID:-//wp-events-plugin.com//7.2.3.1//EN
BEGIN:VEVENT
UID:148@drogasgenero.info
DTSTART;TZID=Europe/Madrid:20211021T160000
DTEND;TZID=Europe/Madrid:20211023T140000
DTSTAMP:20211021T103709Z
URL:https://www.drogasgenero.info/events/v-jornadas-de-metodologia-de-inve
 stigacion-feminista-repensando-los-procesos-de-produccion-de-conocimiento-
 en-tiempos-de-postpandemia/
SUMMARY:V Jornadas de Metodología de Investigación Feminista: Repensando 
 los procesos de producción de conocimiento en tiempos de (post)pandemia
DESCRIPTION:Participamos como ponentes en las V Jornadas de Metodología de
  Investigación Feminista: "Repensando los procesos de producción de cono
 cimiento en tiempos de (post)pandemia" organizadas por los grupos de inves
 tigación SIMReF -Seminario Interdisciplinar de Metodología de Investiga
 ción Feminista y por el GREDI – Grup de Recerca en Educació Intercul
 tural que en sus segunda y IV edición han sido impulsadas conjuntamente
  con HEGOA.\n\nLas jornadas tendrán lugar los días 21\, 22 y 23 Octubr
 e en la UB School of Sociology (Barcelona)\, y contará también con una 
 Preconferencia Virtual el 13 octubre y un Taller PostConferencia el 28 o
 ctubre.\n\n 	Mira toda la información de la Jornada en este enlace\n 	El 
 programa completo se encuentra aquí\n 	Te puedes inscribir en este formul
 ario\n
ATTACH;FMTTYPE=image/jpeg:https://www.drogasgenero.info/wp-content/uploads
 /243447748_417048539837970_8247412309837298139_n.jpg
LOCATION:Universitat de Barcelona School of Sociology\, Avinguda Diagonal\,
  690-696\, Barcelona\, Barcelona\, 08034\, España
GEO:41.385458;2.113745
X-APPLE-STRUCTURED-LOCATION;VALUE=URI;X-ADDRESS=Avinguda Diagonal\, 690-696
 \, Barcelona\, Barcelona\, 08034\, España;X-APPLE-RADIUS=100;X-TITLE=Univ
 ersitat de Barcelona School of Sociology:geo:41.385458,2.113745
END:VEVENT
BEGIN:VTIMEZONE
TZID:Europe/Madrid
X-LIC-LOCATION:Europe/Madrid
BEGIN:DAYLIGHT
DTSTART:20210328T030000
TZOFFSETFROM:+0100
TZOFFSETTO:+0200
TZNAME:CEST
END:DAYLIGHT
END:VTIMEZONE
END:VCALENDAR