BEGIN:VCALENDAR
VERSION:2.0
PRODID:-//wp-events-plugin.com//7.2.3.1//EN
BEGIN:VEVENT
UID:119@drogasgenero.info
DTSTART;TZID=Europe/Madrid:20200922T180000
DTEND;TZID=Europe/Madrid:20200922T193000
DTSTAMP:20200909T095915Z
URL:https://www.drogasgenero.info/events/estudio-del-modelo-festivo-con-no
 ctambuls-consejo-de-la-juventud-de-euskadi-on-line/
SUMMARY:Estudio del modelo festivo con Noctámbul@s // Consejo de la Juvent
 ud de Euskadi // On line
DESCRIPTION:"¿Al referirnos a la palabra fiesta qué se te ocurre? ¿Ocio\
 , diversión\, juerga u otros? Debería serlo\, pero desgraciadamente no e
 s así para todas. En el Consejo de la Juventud de Euskadi (EGK) considera
 mos que un modelo festivo así es injusto\, un obstáculo enorme para la c
 onsecución de la igualdad real entre mujeres y hombres. Queremos acabar c
 on ello\, recurriendo a la base de esa diferencia. Para ello hemos organiz
 ado una sesión virtual el próximo martes 22 de septiembre a las 18h c
 on la colaboración de Noctambul@s. ¡Apúntate aquí!\n\nLas fiestas popu
 lares tienen mucha fuerza y los grupos que las organizan\, en la medida en
  que son acciones colectivas\, reflejan los cambios que se han dado y se d
 an en la sociedad. ¿Cuáles son estos? En 2019 comenzamos a investigar es
 te campo con grupos de discusión realizados en diferentes localidades: p
 ara reflexionar sobre cómo vivimos las fiestas las personas jóvenes\, pa
 ra identificar las desigualdades y conflictos que surgen y para buscar sol
 uciones entre todas. Porque esa es la intención fundamental\, repensar la
 s fiestas y crear nuevos modelos para que sean espacios de placer para tod
 as. Feministas y espacios libres de agresiones.\nSesión online el 22 de s
 eptiembre\nDesde que aprobamos el protocolo de igualdad lo hemos activado 
 con frecuencia contra la Violencia Machista\, más aún a la vuelta de las
  fiestas de verano. Por eso en 2017 realizamos la campaña ‘Indarkeria M
 atxistari #GukEzetz!’. Ahora queremos profundizar en la reflexión inic
 iada en 2019 e ir un paso más allá. Cuestionar el modelo hegemónico de
  fiesta y buscar un modelo que de forma autocrítica responda a nuestras n
 ecesidades.\n\nEl COVID-19 ha dificultado el camino para seguir adelante c
 on esto\, pero en este verano que no ha habido fiestas\, nos parece import
 ante analizar este espacio y analizar cuál es el papel que tenemos las mu
 jeres en él: ¿qué participación tenemos? ¿Qué relaciones de poder se
  crean?\n\n 	Fecha: 22 de septiembre\, a las 18 horas.\n 	Qué: sesión vi
 rtual para repensar fiestas y crear nuevos modelos con la colaboración de
  Noctambul@s\n 	Inscripción: https://forms.gle/zyDtux7tBUVyT2jV8\n\nAgre
 sión sufrida por toda mujer por el hecho de ser mujer. Es lo que entendem
 os por Violencia Machista y ante todo decimos #GukEzetz\, porque sólo a t
 ravés de un posicionamiento claro y público conseguiremos una sociedad b
 asada en la igualdad real entre mujeres y hombres.\n\nPara más informaci
 ón sobre el evento o proyecto no dudes en escribirnos a berdintasuna@egk
 .eus o llamar al 944436143/615749929 (Irati)."
ATTACH;FMTTYPE=image/jpeg:https://www.drogasgenero.info/wp-content/uploads
 /imagen.png
END:VEVENT
BEGIN:VTIMEZONE
TZID:Europe/Madrid
X-LIC-LOCATION:Europe/Madrid
BEGIN:DAYLIGHT
DTSTART:20200329T030000
TZOFFSETFROM:+0100
TZOFFSETTO:+0200
TZNAME:CEST
END:DAYLIGHT
END:VTIMEZONE
END:VCALENDAR