BEGIN:VCALENDAR
VERSION:2.0
PRODID:-//wp-events-plugin.com//7.2.3.1//EN
BEGIN:VEVENT
UID:265@drogasgenero.info
DTSTART;TZID=Europe/Madrid:20250909T150000
DTEND;TZID=Europe/Madrid:20250909T180000
DTSTAMP:20250903T080900Z
URL:https://www.drogasgenero.info/events/eines-per-col%c2%b7laborar-al-pun
 t-lila-de-la-comunitaria-de-la-uab-universitat-autonoma-de-barcelona-2/
SUMMARY:"Eines per col·laborar al Punt Lila de La Comunitària de la UAB" 
 // Universitat Autònoma de Barcelona
DESCRIPTION:\nImpartim la primera i segona sessió del curs "Eines per col
 ·laborar al Punt Lila de La Comunitària de la UAB" organitzat pel Servei
  d'Igualtat i Diversitat de la UAB amb l'objectiu d'emmarcar les violènc
 ies sexuals en contextos festius en l'estructura desigual de gènere.\n\n\
 n\n 	1ª sessió - 9 de setembre: de 15h a 18h\n 	2ª sessió - 16 de sete
 mbre: de 15h a 18h\n\n\nInscripcions AQUÍ.\nMés informació AQUÍ.\n\n\n
ATTACH;FMTTYPE=image/jpeg:https://www.drogasgenero.info/wp-content/uploads
 /Historia-per-Taller-Brigades-e1756824642518.jpg
END:VEVENT
BEGIN:VTIMEZONE
TZID:Europe/Madrid
X-LIC-LOCATION:Europe/Madrid
BEGIN:DAYLIGHT
DTSTART:20250330T030000
TZOFFSETFROM:+0100
TZOFFSETTO:+0200
TZNAME:CEST
END:DAYLIGHT
END:VTIMEZONE
END:VCALENDAR